BEGIN:VCALENDAR
VERSION:2.0
PRODID:El Segundo Fire Department Calendar Creator
METHOD:PUBLISH
BEGIN:VEVENT
DTSTAMP:20230125T091226
DTSTART:20230401T090000
DTEND:20230401T170000
SUMMARY:El Segundo CERT Course Hybrid
DESCRIPTION:<p> ESFD is happy to announce the return of our CERT Training Program.&nbsp;This is a hybrid course. You must complete the online class before joining us in person on Saturday, April 1, 2023 at Station 2.&nbsp;Click&nbsp;<a href="http://www.eventbrite.com/e/el-segundo-cert-course-hybrid-tickets-508265544927" target="_blank">here</a>&nbsp;to reserve your spot. Use the link to book through Eventbrite to gain access to the online portion of the class. This is available to El Segundo Residents 18 years or older.&nbsp;</p><p>&nbsp;Each academy is approximately 20 hours long and is a hybrid of online and in-class instruction. The online course requires 12 hours of study. Upon completion of this course you qualify for an eight-hour hands on training day at El Segundo Fire Station 2. There are eight modules of instruction divided into disaster preparedness, fire suppression, utility control, emergency medical operations, light search and rescue, CERT organization, disaster psychology and terrorism.</p>
X-ALT-DESC;FMTTYPE=text/html:<p> ESFD is happy to announce the return of our CERT Training Program.&nbsp;This is a hybrid course. You must complete the online class before joining us in person on Saturday, April 1, 2023 at Station 2.&nbsp;Click&nbsp;<a href="http://www.eventbrite.com/e/el-segundo-cert-course-hybrid-tickets-508265544927" target="_blank">here</a>&nbsp;to reserve your spot. Use the link to book through Eventbrite to gain access to the online portion of the class. This is available to El Segundo Residents 18 years or older.&nbsp;</p><p>&nbsp;Each academy is approximately 20 hours long and is a hybrid of online and in-class instruction. The online course requires 12 hours of study. Upon completion of this course you qualify for an eight-hour hands on training day at El Segundo Fire Station 2. There are eight modules of instruction divided into disaster preparedness, fire suppression, utility control, emergency medical operations, light search and rescue, CERT organization, disaster psychology and terrorism.</p>
LOCATION:Fire Station 2\, 2261 E Mariposa Ave El Segundo\, California 90245
CLASS:PUBLIC
END:VEVENT
END:VCALENDAR
